BEGIN:VCALENDAR
VERSION:2.0
PRODID:GlueUp
CALSCALE:GREGORIAN
BEGIN:VTIMEZONE
TZID:UTC
BEGIN:STANDARD
DTSTART:19700101T000000
TZOFFSETFROM:+0000
TZOFFSETTO:+0000
TZNAME:UTC
END:STANDARD
END:VTIMEZONE
BEGIN:VEVENT
TZ:+00
ORGANIZER;CN=Bale Xu:MAILTO:bale.xu@britishchambershanghai.cn
UID:50258-1776872731@https://britishchambershanghai.glueup.cn
DTSTAMP:20260422T154531Z
DTSTART:20260521T103000Z
DTEND:20260521T130000Z
SUMMARY:After Hours – Fish and Chips Night 2026
DESCRIPTION:After Hours – Fish and Chips Night 2026 by British Chamber of Commerce Shanghai\n\nMay 21, 2026 (18:30 - 21:00)(GMT+8)\n\nFor more information, click here: https://britishchambershanghai.glueup.cn/my/events/50258
LOCATION:Guinness Social by Butler & White’s - No. 7  - Lane 210 - Taikang Road - Huangpu District Shanghai - China
BEGIN:VALARM
TRIGGER:-PT48H
REPEAT:4
DURATION:PT30M
ACTION:DISPLAY
END:VALARM
END:VEVENT
END:VCALENDAR